BEGIN:VCALENDAR
VERSION:2.0
PRODID:-//frequentis//frequentis.com//EN
BEGIN:VEVENT
DTSTART:20180507
DTEND:20180510
LOCATION:Dubai\, United Arab Emirates
DTSTAMP:20260424T232235
SUMMARY:Dubai Airport Show 2018
URL;VALUE=URI:https://www.theairportshow.com/, Dubai Airport Show 2018
DESCRIPTION:With more than 70 years ATM experience and well known as market leader within this industry Frequentis is proud to participate this event and present our innovative information and tower automation systems for managing air traffic. Visit us at our booth and take an in-depth look at the future of air traffic control, experience our commitment to the ATM industry, support for the challenges ahead and learn more about our broad suite of market leading civil and military communications, information, and automation systems. 
X-ALT-DESC;FMTTYPE=text/html:<!DOCTYPE HTML PUBLIC ""-//W3C//DTD HTML 3.2//EN""><HTML><BODY>\n<p>With more than 70 years ATM experience and well known as market leader within this industry Frequentis is proud to participate this event and present our innovative information and tower automation systems for managing air traffic. Visit us at our booth and take an in-depth look at the future of air traffic control, experience our commitment to the ATM industry, support for the challenges ahead and learn more about our broad suite of market leading civil and military communications, information, and automation systems.</p>   \n</BODY></HTML>
UID:20260424T232235-20180507-20180510
END:VEVENT
END:VCALENDAR