BEGIN:VCALENDAR
VERSION:2.0
PRODID:-//frequentis//frequentis.com//EN
BEGIN:VEVENT
DTSTART:20260421
DTEND:20260423
LOCATION:Bremerhaven\, Atlantic Sail City Hotel\, Germany
DTSTAMP:20260424T173848
SUMMARY:Leitstellensymposium 2026_  FREQUENTIS @Booth #28
URL;VALUE=URI:https://www.symposium-leitstelle.de/, LS 2026
DESCRIPTION:Es werden 400 Teilnehmerinnen und Teilnehmer erwartet, um mit ihnen über die Entwicklungen in den Leitstellen, den aktuellen Stand der Technik, neuen Organisationsstrukturen sowie die berufspolitischen Perspektiven zu diskutieren. 
X-ALT-DESC;FMTTYPE=text/html:<!DOCTYPE HTML PUBLIC ""-//W3C//DTD HTML 3.2//EN""><HTML><BODY>\n<p>Es werden 400 Teilnehmerinnen und Teilnehmer erwartet, um mit ihnen über die Entwicklungen in den Leitstellen, den aktuellen Stand der Technik, neuen Organisationsstrukturen sowie die berufspolitischen Perspektiven zu diskutieren.</p> \n</BODY></HTML>
UID:20260424T173848-20260421-20260423
END:VEVENT
END:VCALENDAR