BEGIN:VCALENDAR
VERSION:2.0
PRODID:-//frequentis//frequentis.com//EN
BEGIN:VEVENT
DTSTART:20260609
DTEND:20260613
LOCATION:Theater Zuidplein -  Rotterdam\, Netherlands
DTSTAMP:20260420T153306
SUMMARY:IHMA: International Harbour Masters Association Congress 2026_  FREQUENTIS @Booth #tbd
URL;VALUE=URI:https://harbourmaster.org/index.php/events/registration-open-15th-international-harbour-masters-congress-9-12-june-2026-rotterdam, IHMA 26
DESCRIPTION:The theme of the IHMA Congress 2026 is Connecting Horizons – Building Future Resilient Ports Together, reflecting a shared commitment to collaboration, innovation, and sustainability across the global maritime sector.The IHMA Congress is a biennial event offering a vital forum for IHMA members, industry stakeholders, innovators, and suppliers from across the ports sector. The Congress enables attendees to connect, share insights, and explore the latest advancements in technology and best practices. 
X-ALT-DESC;FMTTYPE=text/html:<!DOCTYPE HTML PUBLIC ""-//W3C//DTD HTML 3.2//EN""><HTML><BODY>\n<p><span>The theme of the IHMA Congress 2026 is <strong>Connecting Horizons – Building Future Resilient Ports Together</strong>, reflecting a shared commitment to collaboration, innovation, and sustainability across the global maritime sector.</span></p><p><span>The IHMA Congress is a biennial event offering a vital forum for IHMA members, industry stakeholders, innovators, and suppliers from across the ports sector. The Congress enables attendees to connect, share insights, and explore the latest advancements in technology and best practices.</span></p> \n</BODY></HTML>
UID:20260420T153306-20260609-20260613
END:VEVENT
END:VCALENDAR