BEGIN:VCALENDAR
VERSION:2.0
PRODID:-//frequentis//frequentis.com//EN
BEGIN:VEVENT
DTSTART:20260526
DTEND:20260529
LOCATION:Portugal\, Lisbon
DTSTAMP:20260425T235216
SUMMARY:Airspace World 2026_ Frequentis @ Booth #H1-A28
URL;VALUE=URI:https://www.frequentis.com/en/air-traffic-management/airspace-world-2026, ASW 2026
DESCRIPTION:Airspace World 2026 is the leading global gathering for the entire airspace community. From advancing digitalisation and sustainability to integrating drones and new air mobility, it is where the industry connects, collaborates, and shapes the future of global airspace.Key Benefits:Innovation First: Discover the latest ATM, UTM, and AAM technologies and strategies.Unrivalled Networking: Meet 7,000+ ANSPs, regulators and aviation leaders.Business Growth: Secure partnerships and contracts that shape tomorrow.Global Perspective: Gain insights from 145+ countries.Find more information on our Frequentis at Airspace World website: 
X-ALT-DESC;FMTTYPE=text/html:<!DOCTYPE HTML PUBLIC ""-//W3C//DTD HTML 3.2//EN""><HTML><BODY>\n<p><span>Airspace World 2026 is the leading global gathering for the entire airspace community. From advancing digitalisation and sustainability to integrating drones and new air mobility, it is where the industry connects, collaborates, and shapes the future of global airspace.</span></p><p><strong>Key Benefits:</strong></p><ul><li data-list-item-id="e157705733462b1554a686ce0f1fb590a"><strong>Innovation First:</strong> Discover the latest ATM, UTM, and AAM technologies and strategies.</li><li data-list-item-id="ef07d56e16c3b1a42907c53438a59eae2"><strong>Unrivalled Networking:</strong> Meet 7,000+ ANSPs, regulators and aviation leaders.</li><li data-list-item-id="eacd2574bf11c5adb6856f4eacd360a1d"><strong>Business Growth:</strong> Secure partnerships and contracts that shape tomorrow.</li><li data-list-item-id="e5ee5315df7e13cf9c644dc8f21c0a3d9"><strong>Global Perspective:</strong> Gain insights from 145+ countries.</li></ul><p>Find more information on our Frequentis at Airspace World website:</p> \n</BODY></HTML>
UID:20260425T235216-20260526-20260529
END:VEVENT
END:VCALENDAR