BEGIN:VCALENDAR
VERSION:2.0
PRODID:-//frequentis//frequentis.com//EN
BEGIN:VEVENT
DTSTART:20260512
DTEND:20260514
LOCATION:World Conference Center Bonn\, Germany
DTSTAMP:20260421T105344
SUMMARY:AFCEA Fachausstellung 2026_ FREQUENTIS @Booth #tbd
URL;VALUE=URI:https://www.afcea.de/fachausstellung/anmeldetools/ticketshop-afcea-fachausstellung-2025.html, AFCEA 2026
DESCRIPTION:Participation in the AFCEA Trade Exhibition 2026 will once again offer them ideal opportunities to conduct consulting and sales talks, present products and services, showcase innovative ideas, increase awareness of their own company, expand business-to-business relationships and make new contacts as well as deepen existing contacts. 
X-ALT-DESC;FMTTYPE=text/html:<!DOCTYPE HTML PUBLIC ""-//W3C//DTD HTML 3.2//EN""><HTML><BODY>\n<p><strong>Participation in the AFCEA Trade Exhibition 2026</strong><span> will once again offer them ideal opportunities to conduct consulting and sales talks, present products and services, showcase innovative ideas, increase awareness of their own company, expand business-to-business relationships and make new contacts as well as deepen existing contacts.</span></p> \n</BODY></HTML>
UID:20260421T105344-20260512-20260514
END:VEVENT
END:VCALENDAR