BEGIN:VCALENDAR
VERSION:2.0
PRODID:-//frequentis//frequentis.com//EN
BEGIN:VEVENT
DTSTART:20260420
DTEND:20260425
LOCATION:Bucharest
DTSTAMP:20260420T135210
SUMMARY:IFATCA Annual Conference 2026_ FREQUENTIS @booth #tbd
URL;VALUE=URI:https://ifatca2026.com/, IFATCA 2026
DESCRIPTION:Following a successful bid in 2024 RATCA in collaboration with the Romanian Air Traffic Services Administration (ROMATSA) have come together to pursue the opportunity to host this esteemed Conference in 2026.Bucharest, the vibrant capital of Romania, is a city where the past and present intertwine to create a dynamic and captivating destination. From its rich history, reflected in grand architectural monuments like the Palace of the Parliament, to its lively, cosmopolitan atmosphere, Bucharest offers visitors a unique blend of old-world charm and contemporary flair. Discover the allure of a city that is constantly evolving yet deeply rooted in tradition — a place that leaves a lasting impression on all who visit. 
X-ALT-DESC;FMTTYPE=text/html:<!DOCTYPE HTML PUBLIC ""-//W3C//DTD HTML 3.2//EN""><HTML><BODY>\n<p>Following a successful bid in 2024 RATCA in collaboration with the Romanian Air Traffic Services Administration (ROMATSA) have come together to pursue the opportunity to host this esteemed Conference in 2026.</p><p>Bucharest, the vibrant capital of Romania, is a city where the past and present intertwine to create a dynamic and captivating destination. From its rich history, reflected in grand architectural monuments like the Palace of the Parliament, to its lively, cosmopolitan atmosphere, Bucharest offers visitors a unique blend of old-world charm and contemporary flair. Discover the allure of a city that is constantly evolving yet deeply rooted in tradition — a place that leaves a lasting impression on all who visit.</p> \n</BODY></HTML>
UID:20260420T135210-20260420-20260425
END:VEVENT
END:VCALENDAR