BEGIN:VCALENDAR
VERSION:2.0
PRODID:-//frequentis//frequentis.com//EN
BEGIN:VEVENT
DTSTART:20260415
DTEND:20260418
LOCATION:Riga\, Latvia
DTSTAMP:20260420T104527
SUMMARY:EENA Conference & Exhibition 2026_ Frequentis @ Booth #2
URL;VALUE=URI:https://eena.org/events/eena-conference/, EENA 2026
DESCRIPTION:The event brings together over 100 leading international experts in the field of emergency services, offering insightful sessions. More than 800 participants and 40 exhibitors from over 50 countries in Europe and beyond are gathering to exchange on the latest state-of-the-art technologies.Over the course of three days, our expert speakers are addressing key topics relevant to our sector. They are exploring themes such as emergency response optimization, next-generation communication technologies, crisis management strategies, best practices from around the world, and much more. The thought-provoking presentations are equipping participants with innovative ideas and practical solutions. 
X-ALT-DESC;FMTTYPE=text/html:<!DOCTYPE HTML PUBLIC ""-//W3C//DTD HTML 3.2//EN""><HTML><BODY>\n<p>The event brings together over 100 leading international experts in the field of emergency services, offering insightful sessions. More than 800 participants and 40 exhibitors from over 50 countries in Europe and beyond are gathering to exchange on the latest state-of-the-art technologies.</p><p>Over the course of three days, our expert speakers are addressing key topics relevant to our sector. They are exploring themes such as emergency response optimization, next-generation communication technologies, crisis management strategies, best practices from around the world, and much more. The thought-provoking presentations are equipping participants with innovative ideas and practical solutions.</p> \n</BODY></HTML>
UID:20260420T104527-20260415-20260418
END:VEVENT
END:VCALENDAR