BEGIN:VCALENDAR
VERSION:2.0
PRODID:-//frequentis//frequentis.com//EN
BEGIN:VEVENT
DTSTART:20180918
DTEND:20180922
LOCATION:Berlin\, Germany
DTSTAMP:20260423T234007
SUMMARY:InnoTrans
URL;VALUE=URI:http://www.innotrans.de, InnoTrans
DESCRIPTION:Frequentis Public Transport develops, manufactures and installs voice communication and dispatching systems for railway infrastructure organisations and municipal public transport organisations throughout the world. We also offer a comprehensive portfolio of services that includes professional support for every project phase. We are proud to present our innovative solutions at this event. 
X-ALT-DESC;FMTTYPE=text/html:<!DOCTYPE HTML PUBLIC ""-//W3C//DTD HTML 3.2//EN""><HTML><BODY>\n<p>Frequentis Public Transport develops, manufactures and installs voice communication and dispatching systems for railway infrastructure organisations and municipal public transport organisations throughout the world. We also offer a comprehensive portfolio of services that includes professional support for every project phase. We are proud to present our innovative solutions at this event.</p>   \n</BODY></HTML>
UID:20260423T234007-20180918-20180922
END:VEVENT
END:VCALENDAR