BEGIN:VCALENDAR
VERSION:2.0
PRODID:-//frequentis//frequentis.com//EN
BEGIN:VEVENT
DTSTART:20180522
DTEND:20180525
LOCATION:Santo Domingo\, Dominican Republic
DTSTAMP:20260424T230330
SUMMARY:Global AIM
URL;VALUE=URI:https://www.ifaima.org/index.php/global-aim/item/187-global-aim-santo-domingo-2018, Global AIM
DESCRIPTION:Frequentis Aeronautical Information Management (AIM) solutions leverage more than 70 years of ATC heritage showcasing true leadership in this market. With three AIM hub systems and 30 standalone installations Frequentis is supporting 300 organisations and known as the largest supplier in the AIM data domain worldwide. Please join us at this year’s IFAIMA Global AIM Conference and have a view on our expanded and strengthened AIM portfolio. We invite you to share the recent developments and the outlook for the future of the portfolio.  
X-ALT-DESC;FMTTYPE=text/html:<!DOCTYPE HTML PUBLIC ""-//W3C//DTD HTML 3.2//EN""><HTML><BODY>\n<p>Frequentis Aeronautical Information Management (AIM) solutions leverage more than 70 years of ATC heritage showcasing true leadership in this market. With three AIM hub systems and 30 standalone installations Frequentis is supporting 300 organisations and known as the largest supplier in the AIM data domain worldwide. Please join us at this year’s IFAIMA Global AIM Conference and have a view on our expanded and strengthened AIM portfolio. We invite you to share the recent developments and the outlook for the future of the portfolio. </p>   \n</BODY></HTML>
UID:20260424T230330-20180522-20180525
END:VEVENT
END:VCALENDAR